BEGIN:VCALENDAR
VERSION:2.0
PRODID:-//tirumpel.ch//NONSGML Veranstaltungskalender//DE
BEGIN:VTIMEZONE
TZID:Europe/Zurich
END:VTIMEZONE
BEGIN:VEVENT
UID:4783c7074498f59bb13b170854960518@tirumpel.ch
DTSTAMP:20260420T080749Z
DTSTART:20260420T113000Z
DTEND:20260421T133000Z
LOCATION:tiRumpel - Brache Lachen
SUMMARY:Kreativ-Raum für Alle
URL:https://www.tirumpel.ch/index/event/id/2820
END:VEVENT
END:VCALENDAR
