BEGIN:VCALENDAR
VERSION:2.0
PRODID:-//tirumpel.ch//NONSGML Veranstaltungskalender//DE
BEGIN:VTIMEZONE
TZID:Europe/Zurich
END:VTIMEZONE
BEGIN:VEVENT
UID:f677ce8662edfa4dcf4f6544675f4759@tirumpel.ch
DTSTAMP:20260419T132733Z
DTSTART:20260529T160000Z
DTEND:20260529T200000Z
LOCATION:tiRumpel - Brache Lachen
SUMMARY:Tag der Nachbarschaft/Strassenfest
URL:https://www.tirumpel.ch/index/event/id/2866
END:VEVENT
END:VCALENDAR
