BEGIN:VCALENDAR
VERSION:2.0
PRODID:-//tirumpel.ch//NONSGML Veranstaltungskalender//DE
BEGIN:VTIMEZONE
TZID:Europe/Zurich
END:VTIMEZONE
BEGIN:VEVENT
UID:9dbac6aa7589545d4a59bc63347e4f0a@tirumpel.ch
DTSTAMP:20260422T101124Z
DTSTART:20260425T080000Z
DTEND:20260425T093000Z
LOCATION:tiRumpel - Brache Lachen
SUMMARY:Schenk mir eine Geschichte -Farsi / Dari
URL:https://www.tirumpel.ch/index/event/id/2877
END:VEVENT
END:VCALENDAR
